BEGIN:VCALENDAR
VERSION:2.0
PRODID:-//ADDMAN - ECPv6.15.20//NONSGML v1.0//EN
CALSCALE:GREGORIAN
METHOD:PUBLISH
X-ORIGINAL-URL:https://www.addmangroup.com
X-WR-CALDESC:Events for ADDMAN
REFRESH-INTERVAL;VALUE=DURATION:PT1H
X-Robots-Tag:noindex
X-PUBLISHED-TTL:PT1H
BEGIN:VTIMEZONE
TZID:America/Chicago
BEGIN:DAYLIGHT
TZOFFSETFROM:-0600
TZOFFSETTO:-0500
TZNAME:CDT
DTSTART:20250309T080000
END:DAYLIGHT
BEGIN:STANDARD
TZOFFSETFROM:-0500
TZOFFSETTO:-0600
TZNAME:CST
DTSTART:20251102T070000
END:STANDARD
BEGIN:DAYLIGHT
TZOFFSETFROM:-0600
TZOFFSETTO:-0500
TZNAME:CDT
DTSTART:20260308T080000
END:DAYLIGHT
BEGIN:STANDARD
TZOFFSETFROM:-0500
TZOFFSETTO:-0600
TZNAME:CST
DTSTART:20261101T070000
END:STANDARD
BEGIN:DAYLIGHT
TZOFFSETFROM:-0600
TZOFFSETTO:-0500
TZNAME:CDT
DTSTART:20270314T080000
END:DAYLIGHT
BEGIN:STANDARD
TZOFFSETFROM:-0500
TZOFFSETTO:-0600
TZNAME:CST
DTSTART:20271107T070000
END:STANDARD
END:VTIMEZONE
BEGIN:VEVENT
DTSTART;VALUE=DATE:20260315
DTEND;VALUE=DATE:20260320
DTSTAMP:20260423T025640
CREATED:20250908T200951Z
LAST-MODIFIED:20260219T204817Z
UID:8780-1773532800-1773964799@www.addmangroup.com
SUMMARY:AMUG 2026
DESCRIPTION:Booth 301   |   Join us at the 2026 Additive Manufacturing Users Group (AMUG) Conference\, March 15 – 19\, in Reno Nevada. As one of the premier events in the 3D printing industry\, AMUG brings together engineers\, designers\, and additive manufacturing professionals to exchange knowledge\, share best practices\, and explore the latest advancements in AM technologies. \n 
URL:https://www.addmangroup.com/event/amug-2026/
LOCATION:Grand Sierra Resort\, 2500 E 2nd St\, Reno\, NV\, 89595\, United States
CATEGORIES:Trade Shows
ATTACH;FMTTYPE=image/png:https://www.addmangroup.com/wp-content/uploads/2025/09/AMUG-Reno-web-graphic.png
END:VEVENT
BEGIN:VEVENT
DTSTART;VALUE=DATE:20260330
DTEND;VALUE=DATE:20260403
DTSTAMP:20260423T025640
CREATED:20260219T203536Z
LAST-MODIFIED:20260219T203655Z
UID:9630-1774828800-1775174399@www.addmangroup.com
SUMMARY:DMC 2026
DESCRIPTION:Booth 214  |  See our team at the Defense Manufacturing Conference (DMC)\, March 30 – April 2 in Orlando\, Florida.  DMC is the annual forum bringing engineers\, leaders in tech\, scientists\, and policy makers together with manufacturers.  This conference highlights the latest manufacturing innovations that benefit our nation’s warfighters. \nThe conference this spring is eagerly awaited since being postponed after the government shutdown impacted the originally scheduled dates in November.
URL:https://www.addmangroup.com/event/dmc-2026/
LOCATION:Caribe Royale Orlando\, 8101 World Center Drive\, Orlando\, FL\, 32821\, United States
ATTACH;FMTTYPE=image/png:https://www.addmangroup.com/wp-content/uploads/2026/02/Orlando-Florida.png
END:VEVENT
END:VCALENDAR